BEGIN:VCALENDAR
PRODID:-//Google Inc//Google Calendar 70.9054//EN
VERSION:2.0
CALSCALE:GREGORIAN
METHOD:REQUEST
BEGIN:VEVENT
DTSTART;VALUE=DATE:20260530
DTEND;VALUE=DATE:20260531
DTSTAMP:20260205T114842Z
ORGANIZER:mailto:sebcsaba@gmail.com
UID:c4r3cd3674o3gb9n68ojab9kckrmcb9ocgr34bb460ojidhn6ko3gchocc@google.com
ATTENDEE;CUTYPE=INDIVIDUAL;ROLE=REQ-PARTICIPANT;PARTSTAT=ACCEPTED;RSVP=TRUE
 ;X-NUM-GUESTS=0:mailto:sebcsaba@gmail.com
ATTENDEE;CUTYPE=INDIVIDUAL;ROLE=REQ-PARTICIPANT;PARTSTAT=ACCPETED;RSVP=TRUE
 ;X-NUM-GUESTS=0:mailto:szekelyagota@yahoo.com
X-MICROSOFT-CDO-OWNERAPPTID:-645991148
CREATED:20260205T114729Z
DESCRIPTION:https://agoescsaba.hu\nÁgó és Csaba és Máté
LAST-MODIFIED:20260205T114838Z
LOCATION:Fenyőharaszt Kastélyszálló és étterem\, Verseg\, Fenyőharaszt\, 21
 74 Magyarország
SEQUENCE:0
STATUS:CONFIRMED
SUMMARY:Nagy Családi Kertiparti
TRANSP:TRANSPARENT
END:VEVENT
END:VCALENDAR
